BEGIN:VCALENDAR
VERSION:2.0
PRODID:-//Red Wing Farm - ECPv4.4.5//NONSGML v1.0//EN
CALSCALE:GREGORIAN
METHOD:PUBLISH
X-WR-CALNAME:Red Wing Farm
X-ORIGINAL-URL:http://jewellsredwingfarm.com
X-WR-CALDESC:Events for Red Wing Farm
BEGIN:VEVENT
DTSTART;VALUE=DATE:20170610
DTEND;VALUE=DATE:20170611
DTSTAMP:20260420T185502
CREATED:20170402T131709Z
LAST-MODIFIED:20170402T131709Z
UID:195-1497052800-1497225599@jewellsredwingfarm.com
SUMMARY:Adult Camp #1
DESCRIPTION:Camp is from 9am - 3pm (bring your own lunch)\n\nDay includes at least 1.5 of ride time\, groundwork\, education\, etc.\n\nTrail rides are possible if the weather cooperates\n\nTrailer in your horse or use one of Red Wing's!\n\n$60/day or $100 for both days\n\n 
URL:http://jewellsredwingfarm.com/event/adult-camp-1/
LOCATION:1531 Hilltown Pike\, Hilltown\, PA\, 18927\, United States
ORGANIZER;CN="Amber%20Jewell":MAILTO:blondiej4@aol,com
END:VEVENT
END:VCALENDAR