BEGIN:VCALENDAR
VERSION:2.0
PRODID:-//Red Wing Farm - ECPv4.4.5//NONSGML v1.0//EN
CALSCALE:GREGORIAN
METHOD:PUBLISH
X-WR-CALNAME:Red Wing Farm
X-ORIGINAL-URL:http://jewellsredwingfarm.com
X-WR-CALDESC:Events for Red Wing Farm
BEGIN:VEVENT
DTSTART;TZID=UTC+0:20170603T080000
DTEND;TZID=UTC+0:20170603T170000
DTSTAMP:20260420T201716
CREATED:20170329T145158Z
LAST-MODIFIED:20170329T145158Z
UID:178-1496476800-1496509200@jewellsredwingfarm.com
SUMMARY:Ariana Sakaris (private lessons)
DESCRIPTION:
URL:http://jewellsredwingfarm.com/event/ariana-sakaris-private-lessons/
LOCATION:1531 Hilltown Pike\, Hilltown\, PA\, 18927\, United States
ORGANIZER;CN="Kathy%20Quinn":MAILTO:kathy.quinn620@comcast.net
END:VEVENT
END:VCALENDAR