BEGIN:VCALENDAR
VERSION:2.0
PRODID:-//Red Wing Farm - ECPv4.4.5//NONSGML v1.0//EN
CALSCALE:GREGORIAN
METHOD:PUBLISH
X-WR-CALNAME:Red Wing Farm
X-ORIGINAL-URL:http://jewellsredwingfarm.com
X-WR-CALDESC:Events for Red Wing Farm
BEGIN:VEVENT
DTSTART;TZID=UTC+0:20171015T160000
DTEND;TZID=UTC+0:20171015T180000
DTSTAMP:20260422T092142
CREATED:20171006T144408Z
LAST-MODIFIED:20171006T144408Z
UID:329-1508083200-1508090400@jewellsredwingfarm.com
SUMMARY:On Property Trail Ride
DESCRIPTION:One hour trail ride around property; all levels welcome\n\nTrail rides will start going out at 4\, grouped according to level/desire
URL:http://jewellsredwingfarm.com/event/on-property-trail-ride/
LOCATION:1531 Hilltown Pike\, Hilltown\, PA\, 18927\, United States
ORGANIZER;CN="Amber%20Jewell":MAILTO:blondiej4@aol,com
END:VEVENT
END:VCALENDAR