BEGIN:VCALENDAR
VERSION:2.0
PRODID:-//Red Wing Farm - ECPv4.4.5//NONSGML v1.0//EN
CALSCALE:GREGORIAN
METHOD:PUBLISH
X-WR-CALNAME:Red Wing Farm
X-ORIGINAL-URL:http://jewellsredwingfarm.com
X-WR-CALDESC:Events for Red Wing Farm
BEGIN:VEVENT
DTSTART;TZID=UTC+0:20170402T130000
DTEND;TZID=UTC+0:20170402T160000
DTSTAMP:20260420T203407
CREATED:20170329T144516Z
LAST-MODIFIED:20170329T144516Z
UID:169-1491138000-1491148800@jewellsredwingfarm.com
SUMMARY:Trail Ride!
DESCRIPTION:
URL:http://jewellsredwingfarm.com/event/trail-ride/
LOCATION:1531 Hilltown Pike\, Hilltown\, PA\, 18927\, United States
END:VEVENT
END:VCALENDAR